BEGIN:VCALENDAR
CALSCALE:GREGORIAN
BEGIN:VEVENT
DTSTAMP:20231022T063020Z
DTSTART:20211026T143000Z
DTEND:20211026T183000Z
SUMMARY:Delivering on Net-Positive Water Impact for Growth and Resilience
UID:25b8f651-626f-4b3e-9090-4af05055b691
LOCATION:
X-ALT-DESC;FMTTYPE=text/html:
END:VEVENT
END:VCALENDAR
