BEGIN:VCALENDAR
CALSCALE:GREGORIAN
BEGIN:VEVENT
DTSTAMP:20231022T062933Z
DTSTART:20230119T080000Z
DTEND:20230120T080000Z
SUMMARY:Launch of the Blue Peace Bond Roadshows
UID:25ba3158-f441-4b70-a80b-f793c6f35ad3
LOCATION:Davos\, Schweiz
X-ALT-DESC;FMTTYPE=text/html:
END:VEVENT
END:VCALENDAR
