BEGIN:VCALENDAR
CALSCALE:GREGORIAN
BEGIN:VEVENT
DTSTAMP:20231022T054314Z
DTSTART:20231108T153000Z
DTEND:20231108T180000Z
SUMMARY:Responsible Impact Board Workshop - Nachhaltigkeit in KMUs: Rolle und Verantwortung des Verwaltungsrates
UID:279c91e9-57f7-44e5-8384-0f1ef70333f5
LOCATION:Hegibachstrasse 47\, 8032 Zürich\, Switzerland
DESCRIPTION:Vielen Dank für Ihre Anmeldung zu unserer Veranstaltung "Responsible Impact Board Workshop". \n\nWir freuen uns\, Sie am 8. November in den Räumlichkeiten vom Haus der Wirtschaft in Zürich begrüssen zu dürfen. Weitere Informationen zum Programm werden zu gegebener Zeit folgen. \n\nSollten Sie Fragen haben oder Ihre Teilnahme absagen müssen\, antworten Sie bitte auf diese E-Mail.\n\nMit freundlichen Grüssen\,\n\nIhr Global Compact Netzwerk Schweiz & Liechtenstein Sekretariat\n\n\nEventdetails:\n\nResponsible Impact Board Workshop - Nachhaltigkeit in KMUs: Rolle und Verantwortung des Verwaltungsrates\n8 November 2023\, 16:30–19:00 CET\nZürich\, Hegibachstrasse 47\, 8032 Zürich\, Switzerland
X-ALT-DESC;FMTTYPE=text/html:Vielen Dank für Ihre Anmeldung zu unserer Veranstaltung "Responsible Impact Board Workshop". \n\nWir freuen uns\, Sie am 8. November in den Räumlichkeiten vom Haus der Wirtschaft in Zürich begrüssen zu dürfen. Weitere Informationen zum Programm werden zu gegebener Zeit folgen. \n\nSollten Sie Fragen haben oder Ihre Teilnahme absagen müssen\, antworten Sie bitte auf diese E-Mail.\n\nMit freundlichen Grüssen\,\n\nIhr Global Compact Netzwerk Schweiz & Liechtenstein Sekretariat\n\n\nEventdetails:<br>Responsible Impact Board Workshop - Nachhaltigkeit in KMUs: Rolle und Verantwortung des Verwaltungsrates\n8 November 2023\, 16:30–19:00 CET\nZürich\, Hegibachstrasse 47\, 8032 Zürich\, Switzerland
END:VEVENT
END:VCALENDAR
