BEGIN:VCALENDAR
CALSCALE:GREGORIAN
BEGIN:VEVENT
DTSTAMP:20231022T063048Z
DTSTART:20230605T120000Z
DTEND:20230605T133000Z
SUMMARY:Responsible Business in Conflict-Affected or High-Risk Areas – what companies need to know and act upon
UID:27cc4dbf-8396-4857-9a56-49f7aa1f9cda
LOCATION:
DESCRIPTION:Thank you for registering to our event "Responsible Business in Conflict-Affected or High-Risk Areas – what companies need to know and act upon"\n\nWe're looking forward to seeing you there.\n\nJoin Zoom Meeting\nhttps://us02web.zoom.us/j/82131719693\n\nMeeting ID: 821 3171 9693\n\nDial in according to current location (Switzerland):\n+41 44 529 92 72\n+41 22 591 00 05\n+41 22 591 01 56\n+41 31 528 09 88\n+41 43 210 70 42\n+41 43 210 71 08\nOther locations: https://us02web.zoom.us/u/kc7FZabPlf\n\nIf you have any questions or need to cancel your registration\, please reply to this Email.\n\nYour UN Global Compact Network Switzerland & Liechtenstein Secretariat\n\nHere are the event details:\n\nResponsible Business in Conflict-Affected or High-Risk Areas – what companies need to know and act upon\n5 June 2023\, 14:00–15:30\nWebinar
X-ALT-DESC;FMTTYPE=text/html:Thank you for registering to our event "Responsible Business in Conflict-Affected or High-Risk Areas – what companies need to know and act upon"\n\nWe're looking forward to seeing you there.\n\nJoin Zoom Meeting\nhttps://us02web.zoom.us/j/82131719693\n\nMeeting ID: 821 3171 9693\n\nDial in according to current location (Switzerland):\n+41 44 529 92 72\n+41 22 591 00 05\n+41 22 591 01 56\n+41 31 528 09 88\n+41 43 210 70 42\n+41 43 210 71 08\nOther locations: https://us02web.zoom.us/u/kc7FZabPlf\n\nIf you have any questions or need to cancel your registration\, please reply to this Email.\n\nYour UN Global Compact Network Switzerland & Liechtenstein Secretariat\n\nHere are the event details:<br>Responsible Business in Conflict-Affected or High-Risk Areas – what companies need to know and act upon\n5 June 2023\, 14:00–15:30\nWebinar
END:VEVENT
END:VCALENDAR
