BEGIN:VCALENDAR
CALSCALE:GREGORIAN
BEGIN:VEVENT
DTSTAMP:20231022T063301Z
DTSTART:20210701T093000Z
DTEND:20210701T133000Z
SUMMARY:Global Compact Network UK: Business Transition to a Net Zero and Resilient World
UID:27a20066-c244-42c3-8cfb-e47537d76669
LOCATION:
X-ALT-DESC;FMTTYPE=text/html:
END:VEVENT
END:VCALENDAR
