BEGIN:VCALENDAR
CALSCALE:GREGORIAN
BEGIN:VEVENT
DTSTAMP:20231022T063347Z
DTSTART:20210609T144500Z
DTEND:20210609T160000Z
SUMMARY:Global Compact Network USA: Child Labour Webinar Series - Introduction to Child Labour in Global Supply Chains
UID:29a8572f-894d-4462-bf0b-3ae56e1029f8
LOCATION:
X-ALT-DESC;FMTTYPE=text/html:
END:VEVENT
END:VCALENDAR
