BEGIN:VCALENDAR
CALSCALE:GREGORIAN
BEGIN:VEVENT
DTSTAMP:20231022T062806Z
DTSTART:20220420T130000Z
DTEND:20220421T130000Z
SUMMARY:Target Gender Equality 2022 Information Session
UID:20d12e66-8587-4012-bcab-16e63cd6ecff
LOCATION:
X-ALT-DESC;FMTTYPE=text/html:
END:VEVENT
END:VCALENDAR
