BEGIN:VCALENDAR
CALSCALE:GREGORIAN
BEGIN:VEVENT
DTSTAMP:20231022T063244Z
DTSTART:20201118T130000Z
DTEND:20201118T153000Z
SUMMARY:The Tourism Recovery and Resilience Dialogue (TouRRD) - Workshop 1
UID:21580601-f02e-4955-ae54-15a92a502b08
LOCATION:
DESCRIPTION:Thank you for registering to our event!\n\nWe're looking forward to seeing you there.\n\nHere are the event details:\n\nThe Tourism Recovery and Resilience Dialogue (TouRRD) - Workshop 1\n18 November 2020\, 14:00–16:30\nOnline Event
X-ALT-DESC;FMTTYPE=text/html:Thank you for registering to our event!\n\nWe're looking forward to seeing you there.\n\nHere are the event details:<br>The Tourism Recovery and Resilience Dialogue (TouRRD) - Workshop 1\n18 November 2020\, 14:00–16:30\nOnline Event
END:VEVENT
END:VCALENDAR
