BEGIN:VCALENDAR
CALSCALE:GREGORIAN
BEGIN:VEVENT
DTSTAMP:20231022T063219Z
DTSTART:20221031T120000Z
DTEND:20221031T124500Z
SUMMARY:HRDD Peer Learning & Networking Group
UID:2291872c-4194-486e-b4b3-f9309fbcd4d6
LOCATION:
X-ALT-DESC;FMTTYPE=text/html:
END:VEVENT
END:VCALENDAR
