BEGIN:VCALENDAR
CALSCALE:GREGORIAN
BEGIN:VEVENT
DTSTAMP:20231022T063356Z
DTSTART:20200709T113000Z
DTEND:20200709T123000Z
SUMMARY:GCNSL & öbu: 5th Meeting of the Working Group on Sustainable Supply Chains
UID:232d2e3a-cddb-43d6-a751-73d1a89ec9b0
LOCATION:
DESCRIPTION:Thank you for registering to our event!\n\nWe're looking forward to seeing you there.\n\nHere are the event details:\n\nGCNSL & öbu: 5th Meeting of the Working Group on Sustainable Supply Chains\n9 July 2020\, 13:30–14:30\nWebinar
X-ALT-DESC;FMTTYPE=text/html:Thank you for registering to our event!\n\nWe're looking forward to seeing you there.\n\nHere are the event details:<br>GCNSL & öbu: 5th Meeting of the Working Group on Sustainable Supply Chains\n9 July 2020\, 13:30–14:30\nWebinar
END:VEVENT
END:VCALENDAR
