BEGIN:VCALENDAR
CALSCALE:GREGORIAN
BEGIN:VEVENT
DTSTAMP:20231022T062908Z
DTSTART:20230629T080000Z
DTEND:20230629T093000Z
SUMMARY:Implementing the TCFD recommendations – practical guidance for climate reporting
UID:23d46db9-0880-47d8-97fd-12bef0e3013b
LOCATION:
DESCRIPTION:Thank you for registering to our event!\n\nWe're looking forward to seeing you there.\n\nJoin Zoom Meeting:\nhttps://us02web.zoom.us/j/85446059604\n\nMeeting ID: 854 4605 9604\n\nIf you have any questions or need to cancel your registration\, please reply to this email.\n\nYour UN Global Compact Network Switzerland & Liechtenstein Secretariat\n\n\nHere are the event details:\n\nImplementing the TCFD recommendations – practical guidance for climate reporting\n29 June 2023\, 10:00–11:30\nWebinar
X-ALT-DESC;FMTTYPE=text/html:Thank you for registering to our event!\n\nWe're looking forward to seeing you there.\n\nJoin Zoom Meeting:\nhttps://us02web.zoom.us/j/85446059604\n\nMeeting ID: 854 4605 9604\n\nIf you have any questions or need to cancel your registration\, please reply to this email.\n\nYour UN Global Compact Network Switzerland & Liechtenstein Secretariat\n\n\nHere are the event details:<br>Implementing the TCFD recommendations – practical guidance for climate reporting\n29 June 2023\, 10:00–11:30\nWebinar
END:VEVENT
END:VCALENDAR
