BEGIN:VCALENDAR
CALSCALE:GREGORIAN
BEGIN:VEVENT
DTSTAMP:20231022T063221Z
DTSTART:20230404T080000Z
DTEND:20230404T090000Z
SUMMARY:Webinar TNFD framework v0.4
UID:2b5facfe-91c1-4be5-a334-eb17d4f0f99e
LOCATION:
DESCRIPTION:Thank you for registering to our event!\n\nWe're looking forward to seeing you there.\n\nJoin Zoom Meeting\nhttps://us02web.zoom.us/j/89732840709\n\nMeeting ID: 897 3284 0709\nOne tap mobile\n+41432107042\,\,89732840709# Switzerland\n+41432107108\,\,89732840709# Switzerland\n\nDial by your location\n        +41 43 210 70 42 Switzerland\n        +41 43 210 71 08 Switzerland\n        +41 44 529 92 72 Switzerland\n        +41 22 591 00 05 Switzerland\n        +41 22 591 01 56 Switzerland\n        +41 31 528 09 88 Switzerland\n\n\nHere are the event details:\n\nWebinar TNFD framework v0.4\n4 April 2023\, 10:00–11:00\nWebinar
X-ALT-DESC;FMTTYPE=text/html:Thank you for registering to our event!\n\nWe're looking forward to seeing you there.\n\nJoin Zoom Meeting\nhttps://us02web.zoom.us/j/89732840709\n\nMeeting ID: 897 3284 0709\nOne tap mobile\n+41432107042\,\,89732840709# Switzerland\n+41432107108\,\,89732840709# Switzerland\n\nDial by your location\n        +41 43 210 70 42 Switzerland\n        +41 43 210 71 08 Switzerland\n        +41 44 529 92 72 Switzerland\n        +41 22 591 00 05 Switzerland\n        +41 22 591 01 56 Switzerland\n        +41 31 528 09 88 Switzerland\n\n\nHere are the event details:<br>Webinar TNFD framework v0.4\n4 April 2023\, 10:00–11:00\nWebinar
END:VEVENT
END:VCALENDAR
