BEGIN:VCALENDAR
CALSCALE:GREGORIAN
BEGIN:VEVENT
DTSTAMP:20231022T060900Z
DTSTART:20230719T140000Z
DTEND:20230719T153000Z
SUMMARY:Nachhaltig wirtschaften mit dem UN Global Compact
UID:2b745fc0-9d41-440c-a187-5fee2cfdeb98
LOCATION:Landstrasse 16\, 9494 Schaan\, Liechtenstein
X-ALT-DESC;FMTTYPE=text/html:
END:VEVENT
END:VCALENDAR
