BEGIN:VCALENDAR
CALSCALE:GREGORIAN
BEGIN:VEVENT
DTSTAMP:20231022T063103Z
DTSTART:20220825T120000Z
DTEND:20220825T133000Z
SUMMARY:Introduction to the UN Global Compact and CSR/RBC (French/English)
UID:2c139c26-401c-4174-895a-5d4e2f9eff33
LOCATION:
DESCRIPTION:Thank you for registering to our event "Introduction to the UN Global Compact and CSR/RBC".\n\nWe're looking forward to seeing you there.\n\nJoin Zoom Meeting\n https://us02web.zoom.us/j/89351851547\n\nMeeting-ID: 893 5185 1547\n\nDial in according to current location (Switzerland):\n+41 44 529 92 72\n+41 22 591 00 05\n+41 22 591 01 56\n+41 31 528 09 88\n+41 43 210 70 42\n+41 43 210 71 08\nOther locations: https://us02web.zoom.us/u/kc7FZabPlf\n\nIf you have any questions or need to cancel your registration\, please reply to this Email.\n\nYour Global Compact Network Switzerland & Liechtenstein Secretariat\n\n\n\nHere are the event details:\n\nIntroduction to the UN Global Compact and CSR/RBC (French/English)\n25 August 2022\, 14:00–15:30 CEST\nOnline Event
X-ALT-DESC;FMTTYPE=text/html:Thank you for registering to our event "Introduction to the UN Global Compact and CSR/RBC".\n\nWe're looking forward to seeing you there.\n\nJoin Zoom Meeting\n https://us02web.zoom.us/j/89351851547\n\nMeeting-ID: 893 5185 1547\n\nDial in according to current location (Switzerland):\n+41 44 529 92 72\n+41 22 591 00 05\n+41 22 591 01 56\n+41 31 528 09 88\n+41 43 210 70 42\n+41 43 210 71 08\nOther locations: https://us02web.zoom.us/u/kc7FZabPlf\n\nIf you have any questions or need to cancel your registration\, please reply to this Email.\n\nYour Global Compact Network Switzerland & Liechtenstein Secretariat\n\n\n\nHere are the event details:<br>Introduction to the UN Global Compact and CSR/RBC (French/English)\n25 August 2022\, 14:00–15:30 CEST\nOnline Event
END:VEVENT
END:VCALENDAR
