BEGIN:VCALENDAR
CALSCALE:GREGORIAN
BEGIN:VEVENT
DTSTAMP:20231022T062955Z
DTSTART:20210830T141500Z
DTEND:20210830T151500Z
SUMMARY:Swiss Development Cooperation (SDC) Private sector policy: How to promote sustainable development through partnerships
UID:2c6fcedd-15ea-4cde-857e-ed51a3c1fd09
LOCATION:
DESCRIPTION:Thank you for registering to our event "Swiss Development Cooperation (SDC) Private sector policy: How to promote sustainable development through partnerships".\n\nWe're looking forward to seeing you there.\n\nJoin Zoom Meeting\nhttps://us02web.zoom.us/j/82434731964\n\nMeeting ID: 831 9651 6876\n\nDial in according to current location (Switzerland):\n+41 44 529 92 72\n+41 22 591 00 05\n+41 22 591 01 56\n+41 31 528 09 88\n+41 43 210 70 42\n+41 43 210 71 08\n\nOther locations: \nhttps://us02web.zoom.us/u/kc7FZabPlf\n\nIf you have any questions or need to cancel your registration\, please reply to this Email.\n\nYour Global Compact Network Switzerland & Liechtenstein Secretariat\n\nSwiss Development Cooperation (SDC) Private sector policy: How to promote sustainable development through partnerships\n30 August 2021\, 16:15–17:15\nWebinar
X-ALT-DESC;FMTTYPE=text/html:Thank you for registering to our event "Swiss Development Cooperation (SDC) Private sector policy: How to promote sustainable development through partnerships".\n\nWe're looking forward to seeing you there.\n\nJoin Zoom Meeting\nhttps://us02web.zoom.us/j/82434731964\n\nMeeting ID: 831 9651 6876\n\nDial in according to current location (Switzerland):\n+41 44 529 92 72\n+41 22 591 00 05\n+41 22 591 01 56\n+41 31 528 09 88\n+41 43 210 70 42\n+41 43 210 71 08\n\nOther locations: \nhttps://us02web.zoom.us/u/kc7FZabPlf\n\nIf you have any questions or need to cancel your registration\, please reply to this Email.\n\nYour Global Compact Network Switzerland & Liechtenstein Secretariat<br>Swiss Development Cooperation (SDC) Private sector policy: How to promote sustainable development through partnerships\n30 August 2021\, 16:15–17:15\nWebinar
END:VEVENT
END:VCALENDAR
