BEGIN:VCALENDAR
CALSCALE:GREGORIAN
BEGIN:VEVENT
DTSTAMP:20231022T062838Z
DTSTART:20230307T140000Z
DTEND:20230308T140000Z
SUMMARY:Navigating Crises in a Complex World: Lessons for Business Leadership
UID:2cc9487a-7bcb-4d0e-9752-707b15a6a2b5
LOCATION:
X-ALT-DESC;FMTTYPE=text/html:
END:VEVENT
END:VCALENDAR
