BEGIN:VCALENDAR
CALSCALE:GREGORIAN
BEGIN:VEVENT
DTSTAMP:20231022T063119Z
DTSTART:20221108T090000Z
DTEND:20221108T100000Z
SUMMARY:Webinar: Introduction to reporting requirements in Switzerland and the EU
UID:2cf2a1ad-f34c-4c42-9358-a1d46d2c177d
LOCATION:
DESCRIPTION:Thank you for registering to our event "Webinar: Introduction to reporting requirements in Switzerland and the EU"\n\nWe're looking forward to seeing you there.\n\nhttps://us02web.zoom.us/j/82012919264\n\nMeeting-ID: 820 1291 9264\n\nDial in according to current location (Switzerland):\n    +41 43 210 71 08 Schweiz\n        +41 44 529 92 72 Schweiz\n        +41 22 591 00 05 Schweiz\n        +41 22 591 01 56 Schweiz\n        +41 31 528 09 88 Schweiz\n        +41 43 210 70 42 Schweiz\nMeeting-ID: 820 1291 9264\nOther locations:https://us02web.zoom.us/u/kyszNBt4f\n\nIf you have any questions or need to cancel your registration\, please reply to this Email.\n\nYour Global Compact Network Switzerland & Liechtenstein Secretariat\n\n\n\nHere are the event details\n\nWebinar: Introduction to reporting requirements in Switzerland and the EU\n8 November 2022\, 10:00–11:00 CET\nWebinar
X-ALT-DESC;FMTTYPE=text/html:Thank you for registering to our event "Webinar: Introduction to reporting requirements in Switzerland and the EU"\n\nWe're looking forward to seeing you there.\n\nhttps://us02web.zoom.us/j/82012919264\n\nMeeting-ID: 820 1291 9264\n\nDial in according to current location (Switzerland):\n    +41 43 210 71 08 Schweiz\n        +41 44 529 92 72 Schweiz\n        +41 22 591 00 05 Schweiz\n        +41 22 591 01 56 Schweiz\n        +41 31 528 09 88 Schweiz\n        +41 43 210 70 42 Schweiz\nMeeting-ID: 820 1291 9264\nOther locations:https://us02web.zoom.us/u/kyszNBt4f\n\nIf you have any questions or need to cancel your registration\, please reply to this Email.\n\nYour Global Compact Network Switzerland & Liechtenstein Secretariat\n\n\n\nHere are the event details<br>Webinar: Introduction to reporting requirements in Switzerland and the EU\n8 November 2022\, 10:00–11:00 CET\nWebinar
END:VEVENT
END:VCALENDAR
