BEGIN:VCALENDAR
CALSCALE:GREGORIAN
BEGIN:VEVENT
DTSTAMP:20231022T063312Z
DTSTART:20230330T080000Z
DTEND:20230330T093000Z
SUMMARY:CoP Deep Dive: Human & Labour Rights
UID:2dee88b2-d211-49f4-8d8f-49389432f19d
LOCATION:
DESCRIPTION:Thank you for registering to our event!\n\nWe're looking forward to seeing you there.\n\nJoin Zoom Meeting\nhttps://us02web.zoom.us/j/88612354582\n\nMeeting ID: 886 1235 4582\nOne tap mobile\n+41315280988\,\,88612354582# Switzerland\n+41432107042\,\,88612354582# Switzerland\n\nDial by your location\n        +41 31 528 09 88 Switzerland\n        +41 43 210 70 42 Switzerland\n        +41 43 210 71 08 Switzerland\n        +41 44 529 92 72 Switzerland\n        +41 22 591 00 05 Switzerland\n        +41 22 591 01 56 Switzerland\n\nHere are the event details:\n\nCoP Deep Dive: Human & Labour Rights\n30 March 2023\, 10:00–11:30\nWebinar
X-ALT-DESC;FMTTYPE=text/html:Thank you for registering to our event!\n\nWe're looking forward to seeing you there.\n\nJoin Zoom Meeting\nhttps://us02web.zoom.us/j/88612354582\n\nMeeting ID: 886 1235 4582\nOne tap mobile\n+41315280988\,\,88612354582# Switzerland\n+41432107042\,\,88612354582# Switzerland\n\nDial by your location\n        +41 31 528 09 88 Switzerland\n        +41 43 210 70 42 Switzerland\n        +41 43 210 71 08 Switzerland\n        +41 44 529 92 72 Switzerland\n        +41 22 591 00 05 Switzerland\n        +41 22 591 01 56 Switzerland\n\nHere are the event details:<br>CoP Deep Dive: Human & Labour Rights\n30 March 2023\, 10:00–11:30\nWebinar
END:VEVENT
END:VCALENDAR
