BEGIN:VCALENDAR
CALSCALE:GREGORIAN
BEGIN:VEVENT
DTSTAMP:20231022T063337Z
DTSTART:20220301T140000Z
DTEND:20220301T153000Z
SUMMARY:Global Compact Network UK: SDG Benchmarks Overview (SDG Benchmarks for Business Transformation - Webinar Series)
UID:2e8f389f-303a-4c46-ba5a-f0c60704893a
LOCATION:
X-ALT-DESC;FMTTYPE=text/html:
END:VEVENT
END:VCALENDAR
