BEGIN:VCALENDAR
CALSCALE:GREGORIAN
BEGIN:VEVENT
DTSTAMP:20231022T062917Z
DTSTART:20210429T130000Z
DTEND:20210429T143000Z
SUMMARY:Global Compact Netzwerk Deutschland: Webinarreihe Klimamanagement | Klimastrategie
UID:2ec66632-a425-4d9e-b983-ab83e0e02697
LOCATION:
X-ALT-DESC;FMTTYPE=text/html:
END:VEVENT
END:VCALENDAR
