BEGIN:VCALENDAR
CALSCALE:GREGORIAN
BEGIN:VEVENT
DTSTAMP:20231022T063400Z
DTSTART:20210922T080000Z
DTEND:20210922T093000Z
SUMMARY:Global Compact Netzwerk Deutschland: Webinarreihe Klimamanagement | Einstieg in den Klimaschutz
UID:2ee30136-2c80-49a4-847d-dcf567d03d4f
LOCATION:
X-ALT-DESC;FMTTYPE=text/html:
END:VEVENT
END:VCALENDAR
