BEGIN:VCALENDAR
CALSCALE:GREGORIAN
BEGIN:VEVENT
DTSTAMP:20231022T063149Z
DTSTART:20230531T173000Z
DTEND:20230531T183000Z
SUMMARY:Auswirkungen des Klimawandels auf die Gesundheit – Aufgaben der Apotheke / Drogerie
UID:2f01393d-47c8-4e0c-819c-3101ff137065
LOCATION:
DESCRIPTION:Vielen Dank für Ihre Anmeldung zu unserer Veranstaltung  "Webinarserie: Auswirkungen des Klimawandels auf die Gesundheit – Aufgaben der Apotheke / Drogerie "\n\nWir freuen uns auf Ihre Teilnahme.\n\nHier gelangen Sie zum Zoom Meeting:\nhttps://us02web.zoom.us/j/87100683510\n\nMeeting ID: 871 0068 3510\n\nBitte testen Sie den Link vor dem Event\, um sich mit der Verwendung von Zoom vertraut zu machen.\n\nWenn Sie Fragen haben oder Ihre Anmeldung stornieren möchten\, antworten Sie bitte auf diese E-Mail.\n\nIhr Global Compact Netzwerk Schweiz & Liechtenstein Sekretariat\n\n\nEventdetails:\n\nAuswirkungen des Klimawandels auf die Gesundheit – Aufgaben der Apotheke / Drogerie\n31 May 2023\, 19:30–20:30\nWebinar
X-ALT-DESC;FMTTYPE=text/html:Vielen Dank für Ihre Anmeldung zu unserer Veranstaltung  "Webinarserie: Auswirkungen des Klimawandels auf die Gesundheit – Aufgaben der Apotheke / Drogerie "\n\nWir freuen uns auf Ihre Teilnahme.\n\nHier gelangen Sie zum Zoom Meeting:\nhttps://us02web.zoom.us/j/87100683510\n\nMeeting ID: 871 0068 3510\n\nBitte testen Sie den Link vor dem Event\, um sich mit der Verwendung von Zoom vertraut zu machen.\n\nWenn Sie Fragen haben oder Ihre Anmeldung stornieren möchten\, antworten Sie bitte auf diese E-Mail.\n\nIhr Global Compact Netzwerk Schweiz & Liechtenstein Sekretariat\n\n\nEventdetails:<br>Auswirkungen des Klimawandels auf die Gesundheit – Aufgaben der Apotheke / Drogerie\n31 May 2023\, 19:30–20:30\nWebinar
END:VEVENT
END:VCALENDAR
