BEGIN:VCALENDAR
CALSCALE:GREGORIAN
BEGIN:VEVENT
DTSTAMP:20231022T062923Z
DTSTART:20230131T123000Z
DTEND:20230131T133000Z
SUMMARY:Getting ready for the new Swiss Child Labour Legislation - which way forward?
UID:376505be-986a-4806-a063-cdc2e81edab6
LOCATION:
DESCRIPTION:Thank you for registering to our event!\n\nWe're looking forward to seeing you there.\n\nPlease use the following Microsoft Teams link to access the webinar: \nhttps://bit.ly/3VG7AzZ\n\nHere are the event details:\n\nGetting ready for the new Swiss Child Labour Legislation - which way forward?\n31 January 2023\, 13:30–14:30\nWebinar
X-ALT-DESC;FMTTYPE=text/html:Thank you for registering to our event!\n\nWe're looking forward to seeing you there.\n\nPlease use the following Microsoft Teams link to access the webinar: \nhttps://bit.ly/3VG7AzZ\n\nHere are the event details:<br>Getting ready for the new Swiss Child Labour Legislation - which way forward?\n31 January 2023\, 13:30–14:30\nWebinar
END:VEVENT
END:VCALENDAR
