BEGIN:VCALENDAR
CALSCALE:GREGORIAN
BEGIN:VEVENT
DTSTAMP:20231022T063200Z
DTSTART:20201020T083000Z
DTEND:20201020T093000Z
SUMMARY:Webinar: Introduction to Human Rights Due Diligence
UID:37bd34bf-0bdc-489d-9333-bfd06a60f86f
LOCATION:
DESCRIPTION:Thank you for registering to our event!\n\nWe're looking forward to seeing you there.\n\nHere are the event details:\n\nWebinar: Introduction to Human Rights Due Diligence\n20 October 2020\, 10:30–11:30\nWebinar
X-ALT-DESC;FMTTYPE=text/html:Thank you for registering to our event!\n\nWe're looking forward to seeing you there.\n\nHere are the event details:<br>Webinar: Introduction to Human Rights Due Diligence\n20 October 2020\, 10:30–11:30\nWebinar
END:VEVENT
END:VCALENDAR
