BEGIN:VCALENDAR
CALSCALE:GREGORIAN
BEGIN:VEVENT
DTSTAMP:20231022T063052Z
DTSTART:20211117T154500Z
DTEND:20211117T170000Z
SUMMARY:Global Compact Network USA: Child Labour Webinar Series - Child Labour in the Extractives Sector
UID:39065b0d-72ad-4697-8fbb-c1559450f0cf
LOCATION:
X-ALT-DESC;FMTTYPE=text/html:
END:VEVENT
END:VCALENDAR
