BEGIN:VCALENDAR
CALSCALE:GREGORIAN
BEGIN:VEVENT
DTSTAMP:20231022T063130Z
DTSTART:20220704T060000Z
DTEND:20220705T160000Z
SUMMARY:Ukraine Recovery Conference (URC 2022)
UID:30d7a815-0d47-4c16-a41c-7437931f97c6
LOCATION:Lugano\, Switzerland
X-ALT-DESC;FMTTYPE=text/html:
END:VEVENT
END:VCALENDAR
