BEGIN:VCALENDAR
CALSCALE:GREGORIAN
BEGIN:VEVENT
DTSTAMP:20231022T062908Z
DTSTART:20200204T123000Z
DTEND:20200204T153000Z
SUMMARY:Dilemma Dialogue: The Syria case of LafargeHolcim
UID:3177903b-45ff-4cbb-b588-9191f60faca7
LOCATION:Hegibachstrasse 47\, 8032 Zürich\, Schweiz
DESCRIPTION:Thank you for registering to our event!\n\nWe're looking forward to seeing you there.\n\nHere are the event details:\n\nDilemma Dialogue: The Syria case of LafargeHolcim\n4 February 2020\, 13:30–16:30\nHaus der Wirtschaft\, Hegibachstrasse 47\, 8032 Zürich\, Schweiz
X-ALT-DESC;FMTTYPE=text/html:Thank you for registering to our event!\n\nWe're looking forward to seeing you there.\n\nHere are the event details:<br>Dilemma Dialogue: The Syria case of LafargeHolcim\n4 February 2020\, 13:30–16:30\nHaus der Wirtschaft\, Hegibachstrasse 47\, 8032 Zürich\, Schweiz
END:VEVENT
END:VCALENDAR
