BEGIN:VCALENDAR
CALSCALE:GREGORIAN
BEGIN:VEVENT
DTSTAMP:20231022T062946Z
DTSTART:20230323T090000Z
DTEND:20230323T103000Z
SUMMARY:CoP Deep Dive: Governance
UID:31f7c824-9645-49d3-a36b-84383deed39b
LOCATION:
DESCRIPTION:Thank you for registering to our event!\n\nWe're looking forward to seeing you there.\n\nJoin Zoom Meeting\nhttps://us02web.zoom.us/j/82463111773\n\nMeeting ID: 824 6311 1773\nOne tap mobile\n+41445299272\,\,82463111773# Switzerland\n+41225910005\,\,82463111773# Switzerland\n\nDial by your location\n        +41 44 529 92 72 Switzerland\n        +41 22 591 00 05 Switzerland\n        +41 22 591 01 56 Switzerland\n        +41 31 528 09 88 Switzerland\n        +41 43 210 70 42 Switzerland\n        +41 43 210 71 08 Switzerland\n\nHere are the event details:\n\nCoP Deep Dive: Governance\n23 March 2023\, 10:00–11:30\nWebinar
X-ALT-DESC;FMTTYPE=text/html:Thank you for registering to our event!\n\nWe're looking forward to seeing you there.\n\nJoin Zoom Meeting\nhttps://us02web.zoom.us/j/82463111773\n\nMeeting ID: 824 6311 1773\nOne tap mobile\n+41445299272\,\,82463111773# Switzerland\n+41225910005\,\,82463111773# Switzerland\n\nDial by your location\n        +41 44 529 92 72 Switzerland\n        +41 22 591 00 05 Switzerland\n        +41 22 591 01 56 Switzerland\n        +41 31 528 09 88 Switzerland\n        +41 43 210 70 42 Switzerland\n        +41 43 210 71 08 Switzerland\n\nHere are the event details:<br>CoP Deep Dive: Governance\n23 March 2023\, 10:00–11:30\nWebinar
END:VEVENT
END:VCALENDAR
