BEGIN:VCALENDAR
CALSCALE:GREGORIAN
BEGIN:VEVENT
DTSTAMP:20231022T063245Z
DTSTART:20221208T140000Z
DTEND:20221209T140000Z
SUMMARY:Webinar TNFD framework v0.3
UID:3367d336-dd8b-45a9-beb6-c932afdd6120
LOCATION:
X-ALT-DESC;FMTTYPE=text/html:
END:VEVENT
END:VCALENDAR
