BEGIN:VCALENDAR
CALSCALE:GREGORIAN
BEGIN:VEVENT
DTSTAMP:20231022T063131Z
DTSTART:20230426T130000Z
DTEND:20230427T130000Z
SUMMARY:Information Session: 2023 Target Gender Equality Accelerator
UID:3a4d98a5-ca9f-428f-85d3-c65780eee9ec
LOCATION:
X-ALT-DESC;FMTTYPE=text/html:
END:VEVENT
END:VCALENDAR
