BEGIN:VCALENDAR
CALSCALE:GREGORIAN
BEGIN:VEVENT
DTSTAMP:20231022T063024Z
DTSTART:20230123T120000Z
DTEND:20230123T130000Z
SUMMARY:HRDD Peer Learning & Networking Group
UID:3adc7857-326e-4e7c-bbd2-3de9db201013
LOCATION:
X-ALT-DESC;FMTTYPE=text/html:
END:VEVENT
END:VCALENDAR
