BEGIN:VCALENDAR
CALSCALE:GREGORIAN
BEGIN:VEVENT
DTSTAMP:20231022T063231Z
DTSTART:20210126T074500Z
DTEND:20210126T160000Z
SUMMARY:Workshop on Human Rights Due Diligence
UID:3b4f87e6-7b10-4e8d-b0e0-fcfaf0c8fcf4
LOCATION:
DESCRIPTION:Thank you for registering to our event.\n\nWe're looking forward to seeing you there.\n\nYour personal login details will be emailed to you prior to the event.\n\nHere are the event details:\n\nWorkshop on Human Rights Due Diligence\n26 January 2021\, 08:45–17:00\nOnline Event
X-ALT-DESC;FMTTYPE=text/html:Thank you for registering to our event.\n\nWe're looking forward to seeing you there.\n\nYour personal login details will be emailed to you prior to the event.\n\nHere are the event details:<br>Workshop on Human Rights Due Diligence\n26 January 2021\, 08:45–17:00\nOnline Event
END:VEVENT
END:VCALENDAR
