BEGIN:VCALENDAR
CALSCALE:GREGORIAN
BEGIN:VEVENT
DTSTAMP:20231022T063217Z
DTSTART:20230227T140000Z
DTEND:20230228T140000Z
SUMMARY:CoP Deep Dive: Climate & Anti-Corruption
UID:3c670e84-81aa-41b3-86f4-69876b671ed4
LOCATION:
DESCRIPTION:Thank you for registering to our event!\n\nWe're looking forward to seeing you there.\n\nHere are the event details:\n\nCoP Deep Dive: Climate & Anti-Corruption\n27 February 2023 at 15:00\nWebinar
X-ALT-DESC;FMTTYPE=text/html:Thank you for registering to our event!\n\nWe're looking forward to seeing you there.\n\nHere are the event details:<br>CoP Deep Dive: Climate & Anti-Corruption\n27 February 2023 at 15:00\nWebinar
END:VEVENT
END:VCALENDAR
