BEGIN:VCALENDAR
CALSCALE:GREGORIAN
BEGIN:VEVENT
DTSTAMP:20231022T062854Z
DTSTART:20230621T173000Z
DTEND:20230621T183000Z
SUMMARY:Die ökologisch nachhaltige Apotheke / Drogerie: Potenziale und konkrete Massnahmen
UID:444b06c7-1e5f-4b83-afdf-8b58ca48ee7b
LOCATION:
DESCRIPTION:Vielen Dank für Ihre Anmeldung zu unserer Veranstaltung "Webinarserie: Die ökologisch nachhaltige Apotheke/Drogerie: Potenziale und konkrete Massnahmen".\n\nWir freuen uns auf Ihre Teilnahme.\n\nHier gelangen Sie zum Zoom Meeting:\nhttps://us02web.zoom.us/j/84421212009\n\nMeeting ID: 844 2121 2009\n\nBitte testen Sie den Link vor dem Event\, um sich mit der Verwendung von Zoom vertraut zu machen.\n\nWenn Sie Fragen haben oder Ihre Anmeldung stornieren möchten\, antworten Sie bitte auf diese E-Mail.\n\nIhr Global Compact Netzwerk Schweiz & Liechtenstein Sekretariat\n\n\nEventdetails:\n\nDie ökologisch nachhaltige Apotheke / Drogerie: Potenziale und konkrete Massnahmen\n21 June 2023\, 19:30–20:30\nWebinar
X-ALT-DESC;FMTTYPE=text/html:Vielen Dank für Ihre Anmeldung zu unserer Veranstaltung "Webinarserie: Die ökologisch nachhaltige Apotheke/Drogerie: Potenziale und konkrete Massnahmen".\n\nWir freuen uns auf Ihre Teilnahme.\n\nHier gelangen Sie zum Zoom Meeting:\nhttps://us02web.zoom.us/j/84421212009\n\nMeeting ID: 844 2121 2009\n\nBitte testen Sie den Link vor dem Event\, um sich mit der Verwendung von Zoom vertraut zu machen.\n\nWenn Sie Fragen haben oder Ihre Anmeldung stornieren möchten\, antworten Sie bitte auf diese E-Mail.\n\nIhr Global Compact Netzwerk Schweiz & Liechtenstein Sekretariat\n\n\nEventdetails:<br>Die ökologisch nachhaltige Apotheke / Drogerie: Potenziale und konkrete Massnahmen\n21 June 2023\, 19:30–20:30\nWebinar
END:VEVENT
END:VCALENDAR
