BEGIN:VCALENDAR
CALSCALE:GREGORIAN
BEGIN:VEVENT
DTSTAMP:20231022T063416Z
DTSTART:20230904T120000Z
DTEND:20230904T133000Z
SUMMARY:Understanding and implementing Living Wages along companies’ value chains
UID:44cf3ae6-4431-4a58-a833-710bd9c4828a
LOCATION:
DESCRIPTION:Thank you for registering to our event "Understanding and implementing Living Wages along companies’ value chains".\n\nWe're looking forward to seeing you there.\n\nJoin Zoom Meeting\nhttps://us02web.zoom.us/j/85981558339\n\nMeeting ID: 859 8155 8339\n\n\nIf you have any questions or need to cancel your registration\, please reply to this Email.\n\nYour Global Compact Network Switzerland & Liechtenstein Secretariat\n\nHere are the event details:\n\nUnderstanding and implementing Living Wages along companies’ value chains\n4 September 2023\, 14:00–15:30\nOnline Event
X-ALT-DESC;FMTTYPE=text/html:Thank you for registering to our event "Understanding and implementing Living Wages along companies’ value chains".\n\nWe're looking forward to seeing you there.\n\nJoin Zoom Meeting\nhttps://us02web.zoom.us/j/85981558339\n\nMeeting ID: 859 8155 8339\n\n\nIf you have any questions or need to cancel your registration\, please reply to this Email.\n\nYour Global Compact Network Switzerland & Liechtenstein Secretariat\n\nHere are the event details:<br>Understanding and implementing Living Wages along companies’ value chains\n4 September 2023\, 14:00–15:30\nOnline Event
END:VEVENT
END:VCALENDAR
