BEGIN:VCALENDAR
CALSCALE:GREGORIAN
BEGIN:VEVENT
DTSTAMP:20231022T063125Z
DTSTART:20210511T120000Z
DTEND:20210511T140000Z
SUMMARY:Global Compact Netzwerk Deutschland: Überarbeitung der EU-Richtlinie zur nicht-finanziellen Berichterstattung
UID:458ff351-4e85-4ee4-a8d5-e950fadfee52
LOCATION:
X-ALT-DESC;FMTTYPE=text/html:
END:VEVENT
END:VCALENDAR
