BEGIN:VCALENDAR
CALSCALE:GREGORIAN
BEGIN:VEVENT
DTSTAMP:20231022T063339Z
DTSTART:20220516T120000Z
DTEND:20220516T130000Z
SUMMARY:6th Briefing on Regulatory Trends in the European Union and at the International Level
UID:45fd7caa-9644-4537-9793-7bb00975f4ae
LOCATION:
DESCRIPTION:Thank you for registering to our event "6th Briefing on Regulatory Trends in the European Union and at the International Level".\n\nWe're looking forward to seeing you there.\n\nJoin Zoom Meeting\nhttps://us02web.zoom.us/j/87927775668\n\nMeeting-ID: 879 2777 5668\n\nDial in according to current location (Switzerland):\n+41 44 529 92 72\n+41 22 591 00 05\n+41 22 591 01 56\n+41 31 528 09 88\n+41 43 210 70 42\n+41 43 210 71 08\nOther locations: https://us02web.zoom.us/u/kc7FZabPlf\n\nIf you have any questions or need to cancel your registration\, please reply to this Email.\n\nYour Global Compact Network Switzerland & Liechtenstein Secretariat\n\nHere are the event details:\n\n6th Briefing on Regulatory Trends in the European Union and at the International Level\n16 May 2022\, 14:00–15:00 CEST\nOnline Event
X-ALT-DESC;FMTTYPE=text/html:Thank you for registering to our event "6th Briefing on Regulatory Trends in the European Union and at the International Level".\n\nWe're looking forward to seeing you there.\n\nJoin Zoom Meeting\nhttps://us02web.zoom.us/j/87927775668\n\nMeeting-ID: 879 2777 5668\n\nDial in according to current location (Switzerland):\n+41 44 529 92 72\n+41 22 591 00 05\n+41 22 591 01 56\n+41 31 528 09 88\n+41 43 210 70 42\n+41 43 210 71 08\nOther locations: https://us02web.zoom.us/u/kc7FZabPlf\n\nIf you have any questions or need to cancel your registration\, please reply to this Email.\n\nYour Global Compact Network Switzerland & Liechtenstein Secretariat\n\nHere are the event details:<br>6th Briefing on Regulatory Trends in the European Union and at the International Level\n16 May 2022\, 14:00–15:00 CEST\nOnline Event
END:VEVENT
END:VCALENDAR
