BEGIN:VCALENDAR
CALSCALE:GREGORIAN
BEGIN:VEVENT
DTSTAMP:20231022T063206Z
DTSTART:20220207T130000Z
DTEND:20220207T140000Z
SUMMARY:5th Briefing on Regulatory Trends in the European Union and at the International Level
UID:46020115-f089-476d-ab1a-5436d0a30d22
LOCATION:
DESCRIPTION:Thank you for registering to our event "5th Briefing on Regulatory Trends in the European Union and at the International Level".\n\nWe're looking forward to seeing you there.\n\nJoin Zoom Meeting\nhttps://us02web.zoom.us/j/83761029768\n\nMeeting-ID: 837 6102 9768\n\nDial in according to current location (Switzerland):\n+41 44 529 92 72\n+41 22 591 00 05\n+41 22 591 01 56\n+41 31 528 09 88\n+41 43 210 70 42\n+41 43 210 71 08\nOther locations: https://us02web.zoom.us/u/kc7FZabPlf\n\nIf you have any questions or need to cancel your registration\, please reply to this Email.\n\nYour Global Compact Network Switzerland & Liechtenstein Secretariat\n\nHere are the event details:\n\n5th Briefing on Regulatory Trends in the European Union and at the International Level\n7 February 2022\, 14:00–15:00 CET\nOnline Event
X-ALT-DESC;FMTTYPE=text/html:Thank you for registering to our event "5th Briefing on Regulatory Trends in the European Union and at the International Level".\n\nWe're looking forward to seeing you there.\n\nJoin Zoom Meeting\nhttps://us02web.zoom.us/j/83761029768\n\nMeeting-ID: 837 6102 9768\n\nDial in according to current location (Switzerland):\n+41 44 529 92 72\n+41 22 591 00 05\n+41 22 591 01 56\n+41 31 528 09 88\n+41 43 210 70 42\n+41 43 210 71 08\nOther locations: https://us02web.zoom.us/u/kc7FZabPlf\n\nIf you have any questions or need to cancel your registration\, please reply to this Email.\n\nYour Global Compact Network Switzerland & Liechtenstein Secretariat\n\nHere are the event details:<br>5th Briefing on Regulatory Trends in the European Union and at the International Level\n7 February 2022\, 14:00–15:00 CET\nOnline Event
END:VEVENT
END:VCALENDAR
