BEGIN:VCALENDAR
CALSCALE:GREGORIAN
BEGIN:VEVENT
DTSTAMP:20231022T063013Z
DTSTART:20200706T120000Z
DTEND:20200706T133000Z
SUMMARY:Sharing & Learning online: Climate-related reporting
UID:47ea1e3a-12e4-446e-9220-33fb79f44aac
LOCATION:
DESCRIPTION:Thank you for registering to our event!\n\nWe're looking forward to seeing you there.\n\nHere are the event details:\n\nSharing & Learning online: Climate-related reporting\n6 July 2020\, 14:00–15:30\nOnline Sharing & Learning
X-ALT-DESC;FMTTYPE=text/html:Thank you for registering to our event!\n\nWe're looking forward to seeing you there.\n\nHere are the event details:<br>Sharing & Learning online: Climate-related reporting\n6 July 2020\, 14:00–15:30\nOnline Sharing & Learning
END:VEVENT
END:VCALENDAR
