BEGIN:VCALENDAR
CALSCALE:GREGORIAN
BEGIN:VEVENT
DTSTAMP:20231022T062931Z
DTSTART:20221215T153000Z
DTEND:20221215T190000Z
SUMMARY:Responsible Impact Board Program - Thinking Ahead
UID:415d62a8-a8a0-46ce-9f78-e26b2dc9717d
LOCATION:Hegibachstrasse 47\, 8032 Zürich\, Schweiz
DESCRIPTION:Thank you for registering to our event!\n\nWe're looking forward to seeing you there.\n\nHere are the event details:\n\nResponsible Impact Board Program - Thinking Ahead\n15 December 2022\, 16:30–20:00 CET\nZürich\, Hegibachstrasse 47\, 8032 Zürich\, Schweiz
X-ALT-DESC;FMTTYPE=text/html:Thank you for registering to our event!\n\nWe're looking forward to seeing you there.\n\nHere are the event details:<br>Responsible Impact Board Program - Thinking Ahead\n15 December 2022\, 16:30–20:00 CET\nZürich\, Hegibachstrasse 47\, 8032 Zürich\, Schweiz
END:VEVENT
END:VCALENDAR
