BEGIN:VCALENDAR
CALSCALE:GREGORIAN
BEGIN:VEVENT
DTSTAMP:20231022T063136Z
DTSTART:20210929T144500Z
DTEND:20210929T160000Z
SUMMARY:Global Compact Network USA: Child Labour Webinar Series - Child Labour in the Apparel Sector
UID:41ed85d7-3ff7-4679-a2b3-5a49d25cdd06
LOCATION:
X-ALT-DESC;FMTTYPE=text/html:
END:VEVENT
END:VCALENDAR
