BEGIN:VCALENDAR
CALSCALE:GREGORIAN
BEGIN:VEVENT
DTSTAMP:20231022T063727Z
DTSTART:20231122T153000Z
DTEND:20231122T190000Z
SUMMARY:Nachhaltigkeitsmanagement: Chancen - Möglichkeiten - Herausforderungen 
UID:4299393f-7c22-4b83-8c5d-5109697705c4
LOCATION:Schaanerstrasse 19\, 9487 Bendern\, Liechtenstein
DESCRIPTION:Vielen Dank für Ihre Anmeldung zu unserer Veranstaltung "Nachhaltigkeitsmanagement: Chancen - Möglichkeiten - Herausforderungen". \n\nWir freuen uns\, Sie am 22. November im LGT Holzgebäude (Nubes) in Vaduz\, Liechtenstein begrüssen zu dürfen. Weitere Informationen zum Programm werden zu gegebener Zeit folgen. \n\nSollten Sie Fragen haben oder Ihre Teilnahme absagen müssen\, antworten Sie bitte auf diese E-Mail.\n\nMit freundlichen Grüssen\,\n\nIhr Global Compact Netzwerk Schweiz & Liechtenstein Sekretariat\n\n\nEventdetails:\n\nNachhaltigkeitsmanagement: Chancen - Möglichkeiten - Herausforderungen \n22 November 2023\, 16:30–20:00\nLGT Services Center (Holzgebäude Nubes)\, Schaanerstrasse 19\, 9487 Bendern\, Liechtenstein
X-ALT-DESC;FMTTYPE=text/html:Vielen Dank für Ihre Anmeldung zu unserer Veranstaltung "Nachhaltigkeitsmanagement: Chancen - Möglichkeiten - Herausforderungen". \n\nWir freuen uns\, Sie am 22. November im LGT Holzgebäude (Nubes) in Vaduz\, Liechtenstein begrüssen zu dürfen. Weitere Informationen zum Programm werden zu gegebener Zeit folgen. \n\nSollten Sie Fragen haben oder Ihre Teilnahme absagen müssen\, antworten Sie bitte auf diese E-Mail.\n\nMit freundlichen Grüssen\,\n\nIhr Global Compact Netzwerk Schweiz & Liechtenstein Sekretariat\n\n\nEventdetails:<br>Nachhaltigkeitsmanagement: Chancen - Möglichkeiten - Herausforderungen \n22 November 2023\, 16:30–20:00\nLGT Services Center (Holzgebäude Nubes)\, Schaanerstrasse 19\, 9487 Bendern\, Liechtenstein
END:VEVENT
END:VCALENDAR
