BEGIN:VCALENDAR
CALSCALE:GREGORIAN
BEGIN:VEVENT
DTSTAMP:20231022T063105Z
DTSTART:20220906T120000Z
DTEND:20220906T124500Z
SUMMARY:Introductory Webinar: How to develop a sustainability strategy 
UID:42b60727-3dde-4e60-97c7-5ff4d408e1c9
LOCATION:
DESCRIPTION:Thank you for registering to our event "Introductory Webinar: How to develop a sustainability strategy"\n\nWe're looking forward to seeing you there.\n\nJoin Zoom Meeting\n https://us02web.zoom.us/j/86031832509\n\nMeeting ID:  860 3183 2509\n\nDial in according to current location (Switzerland):\n  +41 43 210 70 42 Schweiz\n  +41 43 210 71 08 Schweiz\n  +41 44 529 92 72 Schweiz\n  +41 22 591 00 05 Schweiz\n  +41 22 591 01 56 Schweiz\n  +41 31 528 09 88 Schweiz\nMeeting-ID: 860 3183 2509\nOther locations: https://us02web.zoom.us/u/kAnWpRTf8\n\n\nIf you have any questions or need to cancel your registration\, please reply to this Email.\n\nYour Global Compact Network Switzerland & Liechtenstein Secretariat\n\n\n\nHere are the event details\n\nIntroductory Webinar: How to develop a sustainability strategy \n6 September 2022\, 14:00–14:45 CEST\nWebinar
X-ALT-DESC;FMTTYPE=text/html:Thank you for registering to our event "Introductory Webinar: How to develop a sustainability strategy"\n\nWe're looking forward to seeing you there.\n\nJoin Zoom Meeting\n https://us02web.zoom.us/j/86031832509\n\nMeeting ID:  860 3183 2509\n\nDial in according to current location (Switzerland):\n  +41 43 210 70 42 Schweiz\n  +41 43 210 71 08 Schweiz\n  +41 44 529 92 72 Schweiz\n  +41 22 591 00 05 Schweiz\n  +41 22 591 01 56 Schweiz\n  +41 31 528 09 88 Schweiz\nMeeting-ID: 860 3183 2509\nOther locations: https://us02web.zoom.us/u/kAnWpRTf8\n\n\nIf you have any questions or need to cancel your registration\, please reply to this Email.\n\nYour Global Compact Network Switzerland & Liechtenstein Secretariat\n\n\n\nHere are the event details<br>Introductory Webinar: How to develop a sustainability strategy \n6 September 2022\, 14:00–14:45 CEST\nWebinar
END:VEVENT
END:VCALENDAR
