BEGIN:VCALENDAR
CALSCALE:GREGORIAN
BEGIN:VEVENT
DTSTAMP:20231022T063334Z
DTSTART:20210304T130000Z
DTEND:20210304T143000Z
SUMMARY:Introduction to sustainability reporting
UID:43ed066b-1228-4284-8a01-817bd447403e
LOCATION:
DESCRIPTION:Thank you for registering to our event "Introduction to sustainability reporting".\n\nWe're looking forward to seeing you there.\n\nJoin Zoom Meeting\nhttps://us02web.zoom.us/j/87032432060 \n\nMeeting ID: 870 3243 2060\n\nDial in according to current location (Switzerland):\n+41 44 529 92 72\n+41 22 591 00 05\n+41 22 591 01 56\n+41 31 528 09 88\n+41 43 210 70 42\n+41 43 210 71 08\nOther locations: https://us02web.zoom.us/u/kc7FZabPlf\n\nIf you have any questions or need to cancel your registration\, please reply to this Email.\n\nYour Global Compact Network Switzerland & Liechtenstein Secretariat\n\n\n\nHere are the event details:\n\nIntroduction to sustainability reporting\n4 March 2021\, 14:00–15:30\nOnline Event
X-ALT-DESC;FMTTYPE=text/html:Thank you for registering to our event "Introduction to sustainability reporting".\n\nWe're looking forward to seeing you there.\n\nJoin Zoom Meeting\nhttps://us02web.zoom.us/j/87032432060 \n\nMeeting ID: 870 3243 2060\n\nDial in according to current location (Switzerland):\n+41 44 529 92 72\n+41 22 591 00 05\n+41 22 591 01 56\n+41 31 528 09 88\n+41 43 210 70 42\n+41 43 210 71 08\nOther locations: https://us02web.zoom.us/u/kc7FZabPlf\n\nIf you have any questions or need to cancel your registration\, please reply to this Email.\n\nYour Global Compact Network Switzerland & Liechtenstein Secretariat\n\n\n\nHere are the event details:<br>Introduction to sustainability reporting\n4 March 2021\, 14:00–15:30\nOnline Event
END:VEVENT
END:VCALENDAR
