BEGIN:VCALENDAR
CALSCALE:GREGORIAN
BEGIN:VEVENT
DTSTAMP:20231022T063346Z
DTSTART:20210920T110000Z
DTEND:20210923T030000Z
SUMMARY:Uniting Business LIVE
UID:4d66dc9a-0b8c-4c92-8fc2-5fc12c622d3d
LOCATION:
X-ALT-DESC;FMTTYPE=text/html:
END:VEVENT
END:VCALENDAR
