BEGIN:VCALENDAR
CALSCALE:GREGORIAN
BEGIN:VEVENT
DTSTAMP:20231022T062915Z
DTSTART:20220510T123000Z
DTEND:20220510T173000Z
SUMMARY:Tour de Suisse on Responsible Business - Accelerating the Transition to Net-Zero Building
UID:4de420f6-6be9-4352-9009-f3c492c7c6b6
LOCATION:Ueberlandstrasse 129\, 8600 Dübendorf\, Schweiz
DESCRIPTION:Thank you for registering to "Tour de Suisse on responsible business - Accelerating the transition to net-zero building". \n\nYou can find further information and the agenda in this invitation: https://309e4abd-9298-41f1-8abc-976fad514447.filesusr.com/ugd/300afb_7f36c35d01b14bd3a2f48ced161c4029.pdf\n\nIf you have any questions or need to cancel your participation\, please reply to this Email.\n\nYour Global Compact Network Switzerland & Liechtenstein Secretariat\n\nTour de Suisse on Responsible Business - Accelerating the Transition to Net-Zero Building\n10 May 2022\, 14:30–19:30 CEST\nEMPA Dübendorf\, Ueberlandstrasse 129\, 8600 Dübendorf\, Schweiz
X-ALT-DESC;FMTTYPE=text/html:Thank you for registering to "Tour de Suisse on responsible business - Accelerating the transition to net-zero building". \n\nYou can find further information and the agenda in this invitation: https://309e4abd-9298-41f1-8abc-976fad514447.filesusr.com/ugd/300afb_7f36c35d01b14bd3a2f48ced161c4029.pdf\n\nIf you have any questions or need to cancel your participation\, please reply to this Email.\n\nYour Global Compact Network Switzerland & Liechtenstein Secretariat<br>Tour de Suisse on Responsible Business - Accelerating the Transition to Net-Zero Building\n10 May 2022\, 14:30–19:30 CEST\nEMPA Dübendorf\, Ueberlandstrasse 129\, 8600 Dübendorf\, Schweiz
END:VEVENT
END:VCALENDAR
