BEGIN:VCALENDAR
CALSCALE:GREGORIAN
BEGIN:VEVENT
DTSTAMP:20231022T063055Z
DTSTART:20220831T080000Z
DTEND:20220831T093000Z
SUMMARY:Addressing children's rights in business – An assessment from Switzerland and Liechtenstein
UID:4e56ecbf-edd4-4d9e-86bb-7c33b8ac1868
LOCATION:
DESCRIPTION:Thank you for registering to our event "Addressing children's rights in business – An assessment from Switzerland and Liechtenstein"\n\nWe're looking forward to seeing you there.\n\nJoin Zoom Meeting\nhttps://us02web.zoom.us/j/81347437639\n\nMeeting ID: 813 4743 7639\nOne tap mobile\n+41445299272\,\,81347437639# Switzerland\n+41225910005\,\,81347437639# Switzerland\n\nDial by your location\n        +41 44 529 92 72 Switzerland\n        +41 22 591 00 05 Switzerland\n        +41 22 591 01 56 Switzerland\n        +41 31 528 09 88 Switzerland\n        +41 43 210 70 42 Switzerland\n        +41 43 210 71 08 Switzerland\n\nMeeting ID: 813 4743 7639\nFind your local number: https://us02web.zoom.us/u/kFjORvCwN\n\n\nIf you have any questions or need to cancel your registration\, please reply to this Email.\n\nYour Global Compact Network Switzerland & Liechtenstein Secretariat\n\n\n\nHere are the event details\n\nAddressing children's rights in business – An assessment from Switzerland and Liechtenstein\n31 August 2022\, 10:00–11:30 CEST\nWebinar
X-ALT-DESC;FMTTYPE=text/html:Thank you for registering to our event "Addressing children's rights in business – An assessment from Switzerland and Liechtenstein"\n\nWe're looking forward to seeing you there.\n\nJoin Zoom Meeting\nhttps://us02web.zoom.us/j/81347437639\n\nMeeting ID: 813 4743 7639\nOne tap mobile\n+41445299272\,\,81347437639# Switzerland\n+41225910005\,\,81347437639# Switzerland\n\nDial by your location\n        +41 44 529 92 72 Switzerland\n        +41 22 591 00 05 Switzerland\n        +41 22 591 01 56 Switzerland\n        +41 31 528 09 88 Switzerland\n        +41 43 210 70 42 Switzerland\n        +41 43 210 71 08 Switzerland\n\nMeeting ID: 813 4743 7639\nFind your local number: https://us02web.zoom.us/u/kFjORvCwN\n\n\nIf you have any questions or need to cancel your registration\, please reply to this Email.\n\nYour Global Compact Network Switzerland & Liechtenstein Secretariat\n\n\n\nHere are the event details<br>Addressing children's rights in business – An assessment from Switzerland and Liechtenstein\n31 August 2022\, 10:00–11:30 CEST\nWebinar
END:VEVENT
END:VCALENDAR
