BEGIN:VCALENDAR
CALSCALE:GREGORIAN
BEGIN:VEVENT
DTSTAMP:20231022T062824Z
DTSTART:20210331T080000Z
DTEND:20210331T093000Z
SUMMARY:Global Compact Netzwerk Deutschland: Webinarreihe Kernarbeitsnormen | Webinar 1 - Brücken bauen
UID:4f1bbf02-f775-40e8-8d7a-da4091c2883c
LOCATION:
X-ALT-DESC;FMTTYPE=text/html:
END:VEVENT
END:VCALENDAR
