BEGIN:VCALENDAR
CALSCALE:GREGORIAN
BEGIN:VEVENT
DTSTAMP:20231022T063308Z
DTSTART:20220906T170000Z
DTEND:20220906T200000Z
SUMMARY:International Pre-Evening Event: Working Together for Sustainability 
UID:55dc7b9f-8e59-4b3c-ba79-9d65b2caae34
LOCATION:Stadthausstrasse 4\, 8400 Winterthur\, Schweiz
X-ALT-DESC;FMTTYPE=text/html:
END:VEVENT
END:VCALENDAR
