BEGIN:VCALENDAR
CALSCALE:GREGORIAN
BEGIN:VEVENT
DTSTAMP:20231022T063023Z
DTSTART:20200708T140000Z
DTEND:20200708T150000Z
SUMMARY:Pre-evening Dialogue: Anti-corruption and human rights - effective risk management for SMEs
UID:56ac026e-41ec-4589-a995-19f09154d867
LOCATION:
DESCRIPTION:Thank you for registering to our event!\n\nWe're looking forward to seeing you there.\n\nHere are the event details:\n\nPre-evening Dialogue: Anti-corruption and human rights - effective risk management for SMEs\n8 July 2020\, 16:00–17:00\nPre-evening Dialogue
X-ALT-DESC;FMTTYPE=text/html:Thank you for registering to our event!\n\nWe're looking forward to seeing you there.\n\nHere are the event details:<br>Pre-evening Dialogue: Anti-corruption and human rights - effective risk management for SMEs\n8 July 2020\, 16:00–17:00\nPre-evening Dialogue
END:VEVENT
END:VCALENDAR
